Workbook
Name responseValidationRulesGroup0: 'Response Options (hidden)'!$A$1:$C$4
Name responseOption0: 'Response Options (hidden)'!$A$1:$A$3
Name responseValidationRulesGroup1: 'Response Options (hidden)'!$D$1:$F$4
Name responseOption1: 'Response Options (hidden)'!$D$1:$D$3

Sheet Instructions
B8: Attachment 3, Technical Functionality (Q-35NY)
B10: This form is represented electronically in Excel format and shall be used for upload within the Bonfire portal. Failure to provide Attachment 3 electronically as requested in Bonfire shall result in rejection of the Proposal.
B12: Instructions
B14: - The Summary worksheet displays your overall progress for the questionnaire. - The worksheets numbered from 1 to N represent question sets. - For each question set, select a response from the dropdown (if applicable) and enter a response comment for each question in the table. - If specific instructions have been provided for a given subset, they will appear as a tooltip for a purple cell. Mouse-over to review them. - When pasting content, please use Paste Special as Text without any formatting. - You can only submit text based responses, please do not use special characters like emojis. - Please do not change the structure of any of the worksheets. Changing the structure will invalidate your submission. - Any additional information outside of the given structure of the worksheets will not be visible to the purchaser. - Please do not save this file in a different format. Saving this file in a different format will invalidate your submission. - Please do not use Excel formulas in your responses. - Please follow the instructions provided along with this file to submit it back to Euna Procurement. - If you have any questions regarding the content of this file, please contact the appropriate purchaser. - If you have any technical problems, please contact Euna Procurement at support.bonfire@eunasolutions.com.
ZZ702: ecbf55fd0b85e7aab797c419817ff4c91652076a310d42d49d2ad04ac1d719e2c51cffa53dda42aad02ddff86cbe561e6eaf5dd52ea2a98eccf638e9c0e13d37QA7UONOF7oe6mnjh14/VNcH5dHwyPzr6y0LwCtm6qIDY3CyyTA3oKH+3FOSvENZc

Sheet Summary
B8: Summary
B10: Question Set | C10: Questions | D10: Hide Me | E10: % Complete | F10: Progress | BF10: Error?
B11: 1 | C11: ='1'!C108 -> 0 | E11: ='1'!F108 -> 0 | BF11: =IF(E11= 1, "Complete: no errors",IF(COUNTIF(INDIRECT("'"&B11:B13&"'!H11:H12"),"*"&"response"&"*"),"Errors present","No errors")) -> 0
G12: =E11 >= 0.02 -> 0 | H12: =E11 >= 0.04 -> 0 | I12: =E11 >= 0.06 -> 0 | J12: =E11 >= 0.08 -> 0 | K12: =E11 >= 0.1 -> 0 | L12: =E11 >= 0.12 -> 0 | M12: =E11 >= 0.14 -> 0 | N12: =E11 >= 0.16 -> 0 | O12: =E11 >= 0.18 -> 0 | P12: =E11 >= 0.2 -> 0 | Q12: =E11 >= 0.22 -> 0 | R12: =E11 >= 0.24 -> 0 | S12: =E11 >= 0.26 -> 0 | T12: =E11 >= 0.28 -> 0 | U12: =E11 >= 0.3 -> 0 | V12: =E11 >= 0.32 -> 0 | W12: =E11 >= 0.34 -> 0 | X12: =E11 >= 0.36 -> 0 | Y12: =E11 >= 0.38 -> 0 | Z12: =E11 >= 0.4 -> 0 | AA12: =E11 >= 0.42 -> 0 | AB12: =E11 >= 0.44 -> 0 | AC12: =E11 >= 0.46 -> 0 | AD12: =E11 >= 0.48 -> 0 | AE12: =E11 >= 0.5 -> 0 | AF12: =E11 >= 0.52 -> 0 | AG12: =E11 >= 0.54 -> 0 | AH12: =E11 >= 0.56 -> 0 | AI12: =E11 >= 0.58 -> 0 | AJ12: =E11 >= 0.6 -> 0 | AK12: =E11 >= 0.62 -> 0 | AL12: =E11 >= 0.64 -> 0 | AM12: =E11 >= 0.66 -> 0 | AN12: =E11 >= 0.68 -> 0 | AO12: =E11 >= 0.7 -> 0 | AP12: =E11 >= 0.72 -> 0 | AQ12: =E11 >= 0.74 -> 0 | AR12: =E11 >= 0.76 -> 0 | AS12: =E11 >= 0.78 -> 0 | AT12: =E11 >= 0.8 -> 0 | AU12: =E11 >= 0.82 -> 0 | AV12: =E11 >= 0.84 -> 0 | AW12: =E11 >= 0.86 -> 0 | AX12: =E11 >= 0.88 -> 0 | AY12: =E11 >= 0.9 -> 0 | AZ12: =E11 >= 0.92 -> 0 | BA12: =E11 >= 0.94 -> 0 | BB12: =E11 >= 0.96 -> 0 | BC12: =E11 >= 0.98 -> 0 | BD12: =E11 >= 1 -> 0
B14: 2 | C14: ='2'!C49 -> 0 | E14: ='2'!F49 -> 0 | BF14: =IF(E14= 1, "Complete: no errors",IF(COUNTIF(INDIRECT("'"&B14:B16&"'!H11:H12"),"*"&"response"&"*"),"Errors present","No errors")) -> 0
G15: =E14 >= 0.02 -> 0 | H15: =E14 >= 0.04 -> 0 | I15: =E14 >= 0.06 -> 0 | J15: =E14 >= 0.08 -> 0 | K15: =E14 >= 0.1 -> 0 | L15: =E14 >= 0.12 -> 0 | M15: =E14 >= 0.14 -> 0 | N15: =E14 >= 0.16 -> 0 | O15: =E14 >= 0.18 -> 0 | P15: =E14 >= 0.2 -> 0 | Q15: =E14 >= 0.22 -> 0 | R15: =E14 >= 0.24 -> 0 | S15: =E14 >= 0.26 -> 0 | T15: =E14 >= 0.28 -> 0 | U15: =E14 >= 0.3 -> 0 | V15: =E14 >= 0.32 -> 0 | W15: =E14 >= 0.34 -> 0 | X15: =E14 >= 0.36 -> 0 | Y15: =E14 >= 0.38 -> 0 | Z15: =E14 >= 0.4 -> 0 | AA15: =E14 >= 0.42 -> 0 | AB15: =E14 >= 0.44 -> 0 | AC15: =E14 >= 0.46 -> 0 | AD15: =E14 >= 0.48 -> 0 | AE15: =E14 >= 0.5 -> 0 | AF15: =E14 >= 0.52 -> 0 | AG15: =E14 >= 0.54 -> 0 | AH15: =E14 >= 0.56 -> 0 | AI15: =E14 >= 0.58 -> 0 | AJ15: =E14 >= 0.6 -> 0 | AK15: =E14 >= 0.62 -> 0 | AL15: =E14 >= 0.64 -> 0 | AM15: =E14 >= 0.66 -> 0 | AN15: =E14 >= 0.68 -> 0 | AO15: =E14 >= 0.7 -> 0 | AP15: =E14 >= 0.72 -> 0 | AQ15: =E14 >= 0.74 -> 0 | AR15: =E14 >= 0.76 -> 0 | AS15: =E14 >= 0.78 -> 0 | AT15: =E14 >= 0.8 -> 0 | AU15: =E14 >= 0.82 -> 0 | AV15: =E14 >= 0.84 -> 0 | AW15: =E14 >= 0.86 -> 0 | AX15: =E14 >= 0.88 -> 0 | AY15: =E14 >= 0.9 -> 0 | AZ15: =E14 >= 0.92 -> 0 | BA15: =E14 >= 0.94 -> 0 | BB15: =E14 >= 0.96 -> 0 | BC15: =E14 >= 0.98 -> 0 | BD15: =E14 >= 1 -> 0
B17: 3 | C17: ='3'!C37 -> 0 | E17: ='3'!F37 -> 0 | BF17: =IF(E17= 1, "Complete: no errors",IF(COUNTIF(INDIRECT("'"&B17:B19&"'!H11:H12"),"*"&"response"&"*"),"Errors present","No errors")) -> 0
G18: =E17 >= 0.02 -> 0 | H18: =E17 >= 0.04 -> 0 | I18: =E17 >= 0.06 -> 0 | J18: =E17 >= 0.08 -> 0 | K18: =E17 >= 0.1 -> 0 | L18: =E17 >= 0.12 -> 0 | M18: =E17 >= 0.14 -> 0 | N18: =E17 >= 0.16 -> 0 | O18: =E17 >= 0.18 -> 0 | P18: =E17 >= 0.2 -> 0 | Q18: =E17 >= 0.22 -> 0 | R18: =E17 >= 0.24 -> 0 | S18: =E17 >= 0.26 -> 0 | T18: =E17 >= 0.28 -> 0 | U18: =E17 >= 0.3 -> 0 | V18: =E17 >= 0.32 -> 0 | W18: =E17 >= 0.34 -> 0 | X18: =E17 >= 0.36 -> 0 | Y18: =E17 >= 0.38 -> 0 | Z18: =E17 >= 0.4 -> 0 | AA18: =E17 >= 0.42 -> 0 | AB18: =E17 >= 0.44 -> 0 | AC18: =E17 >= 0.46 -> 0 | AD18: =E17 >= 0.48 -> 0 | AE18: =E17 >= 0.5 -> 0 | AF18: =E17 >= 0.52 -> 0 | AG18: =E17 >= 0.54 -> 0 | AH18: =E17 >= 0.56 -> 0 | AI18: =E17 >= 0.58 -> 0 | AJ18: =E17 >= 0.6 -> 0 | AK18: =E17 >= 0.62 -> 0 | AL18: =E17 >= 0.64 -> 0 | AM18: =E17 >= 0.66 -> 0 | AN18: =E17 >= 0.68 -> 0 | AO18: =E17 >= 0.7 -> 0 | AP18: =E17 >= 0.72 -> 0 | AQ18: =E17 >= 0.74 -> 0 | AR18: =E17 >= 0.76 -> 0 | AS18: =E17 >= 0.78 -> 0 | AT18: =E17 >= 0.8 -> 0 | AU18: =E17 >= 0.82 -> 0 | AV18: =E17 >= 0.84 -> 0 | AW18: =E17 >= 0.86 -> 0 | AX18: =E17 >= 0.88 -> 0 | AY18: =E17 >= 0.9 -> 0 | AZ18: =E17 >= 0.92 -> 0 | BA18: =E17 >= 0.94 -> 0 | BB18: =E17 >= 0.96 -> 0 | BC18: =E17 >= 0.98 -> 0 | BD18: =E17 >= 1 -> 0
B20: 4 | C20: ='4'!C20 -> 0 | E20: ='4'!F20 -> 0 | BF20: =IF(E20= 1, "Complete: no errors",IF(COUNTIF(INDIRECT("'"&B20:B22&"'!H11:H12"),"*"&"response"&"*"),"Errors present","No errors")) -> 0
G21: =E20 >= 0.02 -> 0 | H21: =E20 >= 0.04 -> 0 | I21: =E20 >= 0.06 -> 0 | J21: =E20 >= 0.08 -> 0 | K21: =E20 >= 0.1 -> 0 | L21: =E20 >= 0.12 -> 0 | M21: =E20 >= 0.14 -> 0 | N21: =E20 >= 0.16 -> 0 | O21: =E20 >= 0.18 -> 0 | P21: =E20 >= 0.2 -> 0 | Q21: =E20 >= 0.22 -> 0 | R21: =E20 >= 0.24 -> 0 | S21: =E20 >= 0.26 -> 0 | T21: =E20 >= 0.28 -> 0 | U21: =E20 >= 0.3 -> 0 | V21: =E20 >= 0.32 -> 0 | W21: =E20 >= 0.34 -> 0 | X21: =E20 >= 0.36 -> 0 | Y21: =E20 >= 0.38 -> 0 | Z21: =E20 >= 0.4 -> 0 | AA21: =E20 >= 0.42 -> 0 | AB21: =E20 >= 0.44 -> 0 | AC21: =E20 >= 0.46 -> 0 | AD21: =E20 >= 0.48 -> 0 | AE21: =E20 >= 0.5 -> 0 | AF21: =E20 >= 0.52 -> 0 | AG21: =E20 >= 0.54 -> 0 | AH21: =E20 >= 0.56 -> 0 | AI21: =E20 >= 0.58 -> 0 | AJ21: =E20 >= 0.6 -> 0 | AK21: =E20 >= 0.62 -> 0 | AL21: =E20 >= 0.64 -> 0 | AM21: =E20 >= 0.66 -> 0 | AN21: =E20 >= 0.68 -> 0 | AO21: =E20 >= 0.7 -> 0 | AP21: =E20 >= 0.72 -> 0 | AQ21: =E20 >= 0.74 -> 0 | AR21: =E20 >= 0.76 -> 0 | AS21: =E20 >= 0.78 -> 0 | AT21: =E20 >= 0.8 -> 0 | AU21: =E20 >= 0.82 -> 0 | AV21: =E20 >= 0.84 -> 0 | AW21: =E20 >= 0.86 -> 0 | AX21: =E20 >= 0.88 -> 0 | AY21: =E20 >= 0.9 -> 0 | AZ21: =E20 >= 0.92 -> 0 | BA21: =E20 >= 0.94 -> 0 | BB21: =E20 >= 0.96 -> 0 | BC21: =E20 >= 0.98 -> 0 | BD21: =E20 >= 1 -> 0
B23: 5 | C23: ='5'!C15 -> 0 | E23: ='5'!F15 -> 0 | BF23: =IF(E23= 1, "Complete: no errors",IF(COUNTIF(INDIRECT("'"&B23:B25&"'!H11:H12"),"*"&"response"&"*"),"Errors present","No errors")) -> 0
G24: =E23 >= 0.02 -> 0 | H24: =E23 >= 0.04 -> 0 | I24: =E23 >= 0.06 -> 0 | J24: =E23 >= 0.08 -> 0 | K24: =E23 >= 0.1 -> 0 | L24: =E23 >= 0.12 -> 0 | M24: =E23 >= 0.14 -> 0 | N24: =E23 >= 0.16 -> 0 | O24: =E23 >= 0.18 -> 0 | P24: =E23 >= 0.2 -> 0 | Q24: =E23 >= 0.22 -> 0 | R24: =E23 >= 0.24 -> 0 | S24: =E23 >= 0.26 -> 0 | T24: =E23 >= 0.28 -> 0 | U24: =E23 >= 0.3 -> 0 | V24: =E23 >= 0.32 -> 0 | W24: =E23 >= 0.34 -> 0 | X24: =E23 >= 0.36 -> 0 | Y24: =E23 >= 0.38 -> 0 | Z24: =E23 >= 0.4 -> 0 | AA24: =E23 >= 0.42 -> 0 | AB24: =E23 >= 0.44 -> 0 | AC24: =E23 >= 0.46 -> 0 | AD24: =E23 >= 0.48 -> 0 | AE24: =E23 >= 0.5 -> 0 | AF24: =E23 >= 0.52 -> 0 | AG24: =E23 >= 0.54 -> 0 | AH24: =E23 >= 0.56 -> 0 | AI24: =E23 >= 0.58 -> 0 | AJ24: =E23 >= 0.6 -> 0 | AK24: =E23 >= 0.62 -> 0 | AL24: =E23 >= 0.64 -> 0 | AM24: =E23 >= 0.66 -> 0 | AN24: =E23 >= 0.68 -> 0 | AO24: =E23 >= 0.7 -> 0 | AP24: =E23 >= 0.72 -> 0 | AQ24: =E23 >= 0.74 -> 0 | AR24: =E23 >= 0.76 -> 0 | AS24: =E23 >= 0.78 -> 0 | AT24: =E23 >= 0.8 -> 0 | AU24: =E23 >= 0.82 -> 0 | AV24: =E23 >= 0.84 -> 0 | AW24: =E23 >= 0.86 -> 0 | AX24: =E23 >= 0.88 -> 0 | AY24: =E23 >= 0.9 -> 0 | AZ24: =E23 >= 0.92 -> 0 | BA24: =E23 >= 0.94 -> 0 | BB24: =E23 >= 0.96 -> 0 | BC24: =E23 >= 0.98 -> 0 | BD24: =E23 >= 1 -> 0
B26: 6 | C26: ='6'!C15 -> 0 | E26: ='6'!F15 -> 0 | BF26: =IF(E26= 1, "Complete: no errors",IF(COUNTIF(INDIRECT("'"&B26:B28&"'!H11:H12"),"*"&"response"&"*"),"Errors present","No errors")) -> 0
G27: =E26 >= 0.02 -> 0 | H27: =E26 >= 0.04 -> 0 | I27: =E26 >= 0.06 -> 0 | J27: =E26 >= 0.08 -> 0 | K27: =E26 >= 0.1 -> 0 | L27: =E26 >= 0.12 -> 0 | M27: =E26 >= 0.14 -> 0 | N27: =E26 >= 0.16 -> 0 | O27: =E26 >= 0.18 -> 0 | P27: =E26 >= 0.2 -> 0 | Q27: =E26 >= 0.22 -> 0 | R27: =E26 >= 0.24 -> 0 | S27: =E26 >= 0.26 -> 0 | T27: =E26 >= 0.28 -> 0 | U27: =E26 >= 0.3 -> 0 | V27: =E26 >= 0.32 -> 0 | W27: =E26 >= 0.34 -> 0 | X27: =E26 >= 0.36 -> 0 | Y27: =E26 >= 0.38 -> 0 | Z27: =E26 >= 0.4 -> 0 | AA27: =E26 >= 0.42 -> 0 | AB27: =E26 >= 0.44 -> 0 | AC27: =E26 >= 0.46 -> 0 | AD27: =E26 >= 0.48 -> 0 | AE27: =E26 >= 0.5 -> 0 | AF27: =E26 >= 0.52 -> 0 | AG27: =E26 >= 0.54 -> 0 | AH27: =E26 >= 0.56 -> 0 | AI27: =E26 >= 0.58 -> 0 | AJ27: =E26 >= 0.6 -> 0 | AK27: =E26 >= 0.62 -> 0 | AL27: =E26 >= 0.64 -> 0 | AM27: =E26 >= 0.66 -> 0 | AN27: =E26 >= 0.68 -> 0 | AO27: =E26 >= 0.7 -> 0 | AP27: =E26 >= 0.72 -> 0 | AQ27: =E26 >= 0.74 -> 0 | AR27: =E26 >= 0.76 -> 0 | AS27: =E26 >= 0.78 -> 0 | AT27: =E26 >= 0.8 -> 0 | AU27: =E26 >= 0.82 -> 0 | AV27: =E26 >= 0.84 -> 0 | AW27: =E26 >= 0.86 -> 0 | AX27: =E26 >= 0.88 -> 0 | AY27: =E26 >= 0.9 -> 0 | AZ27: =E26 >= 0.92 -> 0 | BA27: =E26 >= 0.94 -> 0 | BB27: =E26 >= 0.96 -> 0 | BC27: =E26 >= 0.98 -> 0 | BD27: =E26 >= 1 -> 0
B29: 7 | C29: ='7'!C20 -> 0 | E29: ='7'!F20 -> 0 | BF29: =IF(E29= 1, "Complete: no errors",IF(COUNTIF(INDIRECT("'"&B29:B31&"'!H11:H12"),"*"&"response"&"*"),"Errors present","No errors")) -> 0
G30: =E29 >= 0.02 -> 0 | H30: =E29 >= 0.04 -> 0 | I30: =E29 >= 0.06 -> 0 | J30: =E29 >= 0.08 -> 0 | K30: =E29 >= 0.1 -> 0 | L30: =E29 >= 0.12 -> 0 | M30: =E29 >= 0.14 -> 0 | N30: =E29 >= 0.16 -> 0 | O30: =E29 >= 0.18 -> 0 | P30: =E29 >= 0.2 -> 0 | Q30: =E29 >= 0.22 -> 0 | R30: =E29 >= 0.24 -> 0 | S30: =E29 >= 0.26 -> 0 | T30: =E29 >= 0.28 -> 0 | U30: =E29 >= 0.3 -> 0 | V30: =E29 >= 0.32 -> 0 | W30: =E29 >= 0.34 -> 0 | X30: =E29 >= 0.36 -> 0 | Y30: =E29 >= 0.38 -> 0 | Z30: =E29 >= 0.4 -> 0 | AA30: =E29 >= 0.42 -> 0 | AB30: =E29 >= 0.44 -> 0 | AC30: =E29 >= 0.46 -> 0 | AD30: =E29 >= 0.48 -> 0 | AE30: =E29 >= 0.5 -> 0 | AF30: =E29 >= 0.52 -> 0 | AG30: =E29 >= 0.54 -> 0 | AH30: =E29 >= 0.56 -> 0 | AI30: =E29 >= 0.58 -> 0 | AJ30: =E29 >= 0.6 -> 0 | AK30: =E29 >= 0.62 -> 0 | AL30: =E29 >= 0.64 -> 0 | AM30: =E29 >= 0.66 -> 0 | AN30: =E29 >= 0.68 -> 0 | AO30: =E29 >= 0.7 -> 0 | AP30: =E29 >= 0.72 -> 0 | AQ30: =E29 >= 0.74 -> 0 | AR30: =E29 >= 0.76 -> 0 | AS30: =E29 >= 0.78 -> 0 | AT30: =E29 >= 0.8 -> 0 | AU30: =E29 >= 0.82 -> 0 | AV30: =E29 >= 0.84 -> 0 | AW30: =E29 >= 0.86 -> 0 | AX30: =E29 >= 0.88 -> 0 | AY30: =E29 >= 0.9 -> 0 | AZ30: =E29 >= 0.92 -> 0 | BA30: =E29 >= 0.94 -> 0 | BB30: =E29 >= 0.96 -> 0 | BC30: =E29 >= 0.98 -> 0 | BD30: =E29 >= 1 -> 0
B32: Total | C32: =SUM(C11:C31) -> 0 | E32: =IF($C$32=0,1,SUMPRODUCT(C11:C31, E11:E31) / $C$32) -> 0
G33: =E32 >= 0.02 -> 0 | H33: =E32 >= 0.04 -> 0 | I33: =E32 >= 0.06 -> 0 | J33: =E32 >= 0.08 -> 0 | K33: =E32 >= 0.1 -> 0 | L33: =E32 >= 0.12 -> 0 | M33: =E32 >= 0.14 -> 0 | N33: =E32 >= 0.16 -> 0 | O33: =E32 >= 0.18 -> 0 | P33: =E32 >= 0.2 -> 0 | Q33: =E32 >= 0.22 -> 0 | R33: =E32 >= 0.24 -> 0 | S33: =E32 >= 0.26 -> 0 | T33: =E32 >= 0.28 -> 0 | U33: =E32 >= 0.3 -> 0 | V33: =E32 >= 0.32 -> 0 | W33: =E32 >= 0.34 -> 0 | X33: =E32 >= 0.36 -> 0 | Y33: =E32 >= 0.38 -> 0 | Z33: =E32 >= 0.4 -> 0 | AA33: =E32 >= 0.42 -> 0 | AB33: =E32 >= 0.44 -> 0 | AC33: =E32 >= 0.46 -> 0 | AD33: =E32 >= 0.48 -> 0 | AE33: =E32 >= 0.5 -> 0 | AF33: =E32 >= 0.52 -> 0 | AG33: =E32 >= 0.54 -> 0 | AH33: =E32 >= 0.56 -> 0 | AI33: =E32 >= 0.58 -> 0 | AJ33: =E32 >= 0.6 -> 0 | AK33: =E32 >= 0.62 -> 0 | AL33: =E32 >= 0.64 -> 0 | AM33: =E32 >= 0.66 -> 0 | AN33: =E32 >= 0.68 -> 0 | AO33: =E32 >= 0.7 -> 0 | AP33: =E32 >= 0.72 -> 0 | AQ33: =E32 >= 0.74 -> 0 | AR33: =E32 >= 0.76 -> 0 | AS33: =E32 >= 0.78 -> 0 | AT33: =E32 >= 0.8 -> 0 | AU33: =E32 >= 0.82 -> 0 | AV33: =E32 >= 0.84 -> 0 | AW33: =E32 >= 0.86 -> 0 | AX33: =E32 >= 0.88 -> 0 | AY33: =E32 >= 0.9 -> 0 | AZ33: =E32 >= 0.92 -> 0 | BA33: =E32 >= 0.94 -> 0 | BB33: =E32 >= 0.96 -> 0 | BC33: =E32 >= 0.98 -> 0 | BD33: =E32 >= 1 -> 0

Sheet 1
C2: Question Set 1: RFID System
C10: # | D10: Question | E10: Hide Me | F10: Response | G10: Comment | H10: Status | I10: Hide Me
C11: General Requirements | H11: =IF(AND(ISBLANK(F11),ISBLANK(G11)),"?", "Anything entered in this row will be ignored") -> 0 | I11: -1
B12: 1691379 | C12: 1.1.1 | D12: Be fully compatible with the Library's Integrated Library System (ILS) and other connected devices. | H12: =IF(AND(ISNA(MATCH(OFFSET($H12,0,-2)&"",responseOption0,0)),NOT(TRIM(OFFSET($H12,0,-2)) = "")),"Response must be one of "&INDEX(responseValidationRulesGroup0,4,1),IF(AND(IF(ISNA(INDEX(responseValidationRulesGroup0,MATCH(OFFSET($H12,0,-2)&"",responseOption0,0),2)),FALSE,INDEX(responseValidationRulesGroup0,MATCH(OFFSET($H12,0,-2)&"",responseOption0,0),2)),TRIM(OFFSET($H12,0,-1)) = ""),"A comment is required for this response",IF(IF(ISNA(INDEX(responseValidationRulesGroup0,MATCH(OFFSET($H12,0,-2)&"",responseOption0,0),3)),FALSE,INDEX(responseValidationRulesGroup0,MATCH(OFFSET($H12,0,-2)&"",responseOption0,0),3)),IF(TRIM(OFFSET($H12,0,-1)) = "","Complete","The comment must be left blank for this response"),IF(TRIM(OFFSET($H12,0,-2))="","Incomplete", "Complete")))) -> 0 | I12: 1
B13: 1691380 | C13: 1.1.2 | D13: Meet ISO 9001 standards; the vendor must provide a valid certification. | H13: =IF(AND(ISNA(MATCH(OFFSET($H13,0,-2)&"",responseOption0,0)),NOT(TRIM(OFFSET($H13,0,-2)) = "")),"Response must be one of "&INDEX(responseValidationRulesGroup0,4,1),IF(AND(IF(ISNA(INDEX(responseValidationRulesGroup0,MATCH(OFFSET($H13,0,-2)&"",responseOption0,0),2)),FALSE,INDEX(responseValidationRulesGroup0,MATCH(OFFSET($H13,0,-2)&"",responseOption0,0),2)),TRIM(OFFSET($H13,0,-1)) = ""),"A comment is required for this response",IF(IF(ISNA(INDEX(responseValidationRulesGroup0,MATCH(OFFSET($H13,0,-2)&"",responseOption0,0),3)),FALSE,INDEX(responseValidationRulesGroup0,MATCH(OFFSET($H13,0,-2)&"",responseOption0,0),3)),IF(TRIM(OFFSET($H13,0,-1)) = "","Complete","The comment must be left blank for this response"),IF(TRIM(OFFSET($H13,0,-2))="","Incomplete", "Complete")))) -> 0 | I13: 0
B14: 1691381 | C14: 1.1.3 | D14: Comply with SIP/SIP2 and NCIP (Z39.83, Parts 1 and 2) standards. | H14: =IF(AND(ISNA(MATCH(OFFSET($H14,0,-2)&"",responseOption0,0)),NOT(TRIM(OFFSET($H14,0,-2)) = "")),"Response must be one of "&INDEX(responseValidationRulesGroup0,4,1),IF(AND(IF(ISNA(INDEX(responseValidationRulesGroup0,MATCH(OFFSET($H14,0,-2)&"",responseOption0,0),2)),FALSE,INDEX(responseValidationRulesGroup0,MATCH(OFFSET($H14,0,-2)&"",responseOption0,0),2)),TRIM(OFFSET($H14,0,-1)) = ""),"A comment is required for this response",IF(IF(ISNA(INDEX(responseValidationRulesGroup0,MATCH(OFFSET($H14,0,-2)&"",responseOption0,0),3)),FALSE,INDEX(responseValidationRulesGroup0,MATCH(OFFSET($H14,0,-2)&"",responseOption0,0),3)),IF(TRIM(OFFSET($H14,0,-1)) = "","Complete","The comment must be left blank for this response"),IF(TRIM(OFFSET($H14,0,-2))="","Incomplete", "Complete")))) -> 0 | I14: 1
B15: 1691382 | C15: 1.1.4 | D15: Function on wired or wireless TCP/IP networks at speeds of up to 1 Gbit/s (wired) and 50 Mbit/s (wireless). | H15: =IF(AND(ISNA(MATCH(OFFSET($H15,0,-2)&"",responseOption0,0)),NOT(TRIM(OFFSET($H15,0,-2)) = "")),"Response must be one of "&INDEX(responseValidationRulesGroup0,4,1),IF(AND(IF(ISNA(INDEX(responseValidationRulesGroup0,MATCH(OFFSET($H15,0,-2)&"",responseOption0,0),2)),FALSE,INDEX(responseValidationRulesGroup0,MATCH(OFFSET($H15,0,-2)&"",responseOption0,0),2)),TRIM(OFFSET($H15,0,-1)) = ""),"A comment is required for this response",IF(IF(ISNA(INDEX(responseValidationRulesGroup0,MATCH(OFFSET($H15,0,-2)&"",responseOption0,0),3)),FALSE,INDEX(responseValidationRulesGroup0,MATCH(OFFSET($H15,0,-2)&"",responseOption0,0),3)),IF(TRIM(OFFSET($H15,0,-1)) = "","Complete","The comment must be left blank for this response"),IF(TRIM(OFFSET($H15,0,-2))="","Incomplete", "Complete")))) -> 0 | I15: 0
B16: 1691383 | C16: 1.1.5 | D16: Conform to ISO 28560 and ISO 18000-3 standards for RFID. | H16: =IF(AND(ISNA(MATCH(OFFSET($H16,0,-2)&"",responseOption0,0)),NOT(TRIM(OFFSET($H16,0,-2)) = "")),"Response must be one of "&INDEX(responseValidationRulesGroup0,4,1),IF(AND(IF(ISNA(INDEX(responseValidationRulesGroup0,MATCH(OFFSET($H16,0,-2)&"",responseOption0,0),2)),FALSE,INDEX(responseValidationRulesGroup0,MATCH(OFFSET($H16,0,-2)&"",responseOption0,0),2)),TRIM(OFFSET($H16,0,-1)) = ""),"A comment is required for this response",IF(IF(ISNA(INDEX(responseValidationRulesGroup0,MATCH(OFFSET($H16,0,-2)&"",responseOption0,0),3)),FALSE,INDEX(responseValidationRulesGroup0,MATCH(OFFSET($H16,0,-2)&"",responseOption0,0),3)),IF(TRIM(OFFSET($H16,0,-1)) = "","Complete","The comment must be left blank for this response"),IF(TRIM(OFFSET($H16,0,-2))="","Incomplete", "Complete")))) -> 0 | I16: 1
B17: 1691384 | C17: 1.1.6 | D17: Include application-specific software that integrates all hardware components into the system. | H17: =IF(AND(ISNA(MATCH(OFFSET($H17,0,-2)&"",responseOption0,0)),NOT(TRIM(OFFSET($H17,0,-2)) = "")),"Response must be one of "&INDEX(responseValidationRulesGroup0,4,1),IF(AND(IF(ISNA(INDEX(responseValidationRulesGroup0,MATCH(OFFSET($H17,0,-2)&"",responseOption0,0),2)),FALSE,INDEX(responseValidationRulesGroup0,MATCH(OFFSET($H17,0,-2)&"",responseOption0,0),2)),TRIM(OFFSET($H17,0,-1)) = ""),"A comment is required for this response",IF(IF(ISNA(INDEX(responseValidationRulesGroup0,MATCH(OFFSET($H17,0,-2)&"",responseOption0,0),3)),FALSE,INDEX(responseValidationRulesGroup0,MATCH(OFFSET($H17,0,-2)&"",responseOption0,0),3)),IF(TRIM(OFFSET($H17,0,-1)) = "","Complete","The comment must be left blank for this response"),IF(TRIM(OFFSET($H17,0,-2))="","Incomplete", "Complete")))) -> 0 | I17: 0
B18: 1691385 | C18: 1.1.7 | D18: Provide performance statistics accessible via the library network, including data by year, month, day, and hour. | H18: =IF(AND(ISNA(MATCH(OFFSET($H18,0,-2)&"",responseOption0,0)),NOT(TRIM(OFFSET($H18,0,-2)) = "")),"Response must be one of "&INDEX(responseValidationRulesGroup0,4,1),IF(AND(IF(ISNA(INDEX(responseValidationRulesGroup0,MATCH(OFFSET($H18,0,-2)&"",responseOption0,0),2)),FALSE,INDEX(responseValidationRulesGroup0,MATCH(OFFSET($H18,0,-2)&"",responseOption0,0),2)),TRIM(OFFSET($H18,0,-1)) = ""),"A comment is required for this response",IF(IF(ISNA(INDEX(responseValidationRulesGroup0,MATCH(OFFSET($H18,0,-2)&"",responseOption0,0),3)),FALSE,INDEX(responseValidationRulesGroup0,MATCH(OFFSET($H18,0,-2)&"",responseOption0,0),3)),IF(TRIM(OFFSET($H18,0,-1)) = "","Complete","The comment must be left blank for this response"),IF(TRIM(OFFSET($H18,0,-2))="","Incomplete", "Complete")))) -> 0 | I18: 1
B19: 1691386 | C19: 1.1.8 | D19: Provide web-based, OS-independent device management portal. | H19: =IF(AND(ISNA(MATCH(OFFSET($H19,0,-2)&"",responseOption0,0)),NOT(TRIM(OFFSET($H19,0,-2)) = "")),"Response must be one of "&INDEX(responseValidationRulesGroup0,4,1),IF(AND(IF(ISNA(INDEX(responseValidationRulesGroup0,MATCH(OFFSET($H19,0,-2)&"",responseOption0,0),2)),FALSE,INDEX(responseValidationRulesGroup0,MATCH(OFFSET($H19,0,-2)&"",responseOption0,0),2)),TRIM(OFFSET($H19,0,-1)) = ""),"A comment is required for this response",IF(IF(ISNA(INDEX(responseValidationRulesGroup0,MATCH(OFFSET($H19,0,-2)&"",responseOption0,0),3)),FALSE,INDEX(responseValidationRulesGroup0,MATCH(OFFSET($H19,0,-2)&"",responseOption0,0),3)),IF(TRIM(OFFSET($H19,0,-1)) = "","Complete","The comment must be left blank for this response"),IF(TRIM(OFFSET($H19,0,-2))="","Incomplete", "Complete")))) -> 0 | I19: 0
B20: 1691387 | C20: 1.1.9 | D20: Allow library administrators to configure user access based on roles and permissions. | H20: =IF(AND(ISNA(MATCH(OFFSET($H20,0,-2)&"",responseOption0,0)),NOT(TRIM(OFFSET($H20,0,-2)) = "")),"Response must be one of "&INDEX(responseValidationRulesGroup0,4,1),IF(AND(IF(ISNA(INDEX(responseValidationRulesGroup0,MATCH(OFFSET($H20,0,-2)&"",responseOption0,0),2)),FALSE,INDEX(responseValidationRulesGroup0,MATCH(OFFSET($H20,0,-2)&"",responseOption0,0),2)),TRIM(OFFSET($H20,0,-1)) = ""),"A comment is required for this response",IF(IF(ISNA(INDEX(responseValidationRulesGroup0,MATCH(OFFSET($H20,0,-2)&"",responseOption0,0),3)),FALSE,INDEX(responseValidationRulesGroup0,MATCH(OFFSET($H20,0,-2)&"",responseOption0,0),3)),IF(TRIM(OFFSET($H20,0,-1)) = "","Complete","The comment must be left blank for this response"),IF(TRIM(OFFSET($H20,0,-2))="","Incomplete", "Complete")))) -> 0 | I20: 1
B21: 1691388 | C21: 1.1.10 | D21: Be compliant with ADA guidelines and certified under UL, CE, and FCC regulations. | H21: =IF(AND(ISNA(MATCH(OFFSET($H21,0,-2)&"",responseOption0,0)),NOT(TRIM(OFFSET($H21,0,-2)) = "")),"Response must be one of "&INDEX(responseValidationRulesGroup0,4,1),IF(AND(IF(ISNA(INDEX(responseValidationRulesGroup0,MATCH(OFFSET($H21,0,-2)&"",responseOption0,0),2)),FALSE,INDEX(responseValidationRulesGroup0,MATCH(OFFSET($H21,0,-2)&"",responseOption0,0),2)),TRIM(OFFSET($H21,0,-1)) = ""),"A comment is required for this response",IF(IF(ISNA(INDEX(responseValidationRulesGroup0,MATCH(OFFSET($H21,0,-2)&"",responseOption0,0),3)),FALSE,INDEX(responseValidationRulesGroup0,MATCH(OFFSET($H21,0,-2)&"",responseOption0,0),3)),IF(TRIM(OFFSET($H21,0,-1)) = "","Complete","The comment must be left blank for this response"),IF(TRIM(OFFSET($H21,0,-2))="","Incomplete", "Complete")))) -> 0 | I21: 0
B22: 1691389 | C22: 1.1.11 | D22: Offer ongoing collaboration with the Library's ILS vendor to address any functionality issues. | H22: =IF(AND(ISNA(MATCH(OFFSET($H22,0,-2)&"",responseOption0,0)),NOT(TRIM(OFFSET($H22,0,-2)) = "")),"Response must be one of "&INDEX(responseValidationRulesGroup0,4,1),IF(AND(IF(ISNA(INDEX(responseValidationRulesGroup0,MATCH(OFFSET($H22,0,-2)&"",responseOption0,0),2)),FALSE,INDEX(responseValidationRulesGroup0,MATCH(OFFSET($H22,0,-2)&"",responseOption0,0),2)),TRIM(OFFSET($H22,0,-1)) = ""),"A comment is required for this response",IF(IF(ISNA(INDEX(responseValidationRulesGroup0,MATCH(OFFSET($H22,0,-2)&"",responseOption0,0),3)),FALSE,INDEX(responseValidationRulesGroup0,MATCH(OFFSET($H22,0,-2)&"",responseOption0,0),3)),IF(TRIM(OFFSET($H22,0,-1)) = "","Complete","The comment must be left blank for this response"),IF(TRIM(OFFSET($H22,0,-2))="","Incomplete", "Complete")))) -> 0 | I22: 1
C23: RFID Tags | H23: =IF(AND(ISBLANK(F23),ISBLANK(G23)),"?", "Anything entered in this row will be ignored") -> 0 | I23: -1
B24: 1691390 | C24: 1.2.1 | D24: Be compatible with the EAS tagging system and AFI security model. | H24: =IF(AND(ISNA(MATCH(OFFSET($H24,0,-2)&"",responseOption0,0)),NOT(TRIM(OFFSET($H24,0,-2)) = "")),"Response must be one of "&INDEX(responseValidationRulesGroup0,4,1),IF(AND(IF(ISNA(INDEX(responseValidationRulesGroup0,MATCH(OFFSET($H24,0,-2)&"",responseOption0,0),2)),FALSE,INDEX(responseValidationRulesGroup0,MATCH(OFFSET($H24,0,-2)&"",responseOption0,0),2)),TRIM(OFFSET($H24,0,-1)) = ""),"A comment is required for this response",IF(IF(ISNA(INDEX(responseValidationRulesGroup0,MATCH(OFFSET($H24,0,-2)&"",responseOption0,0),3)),FALSE,INDEX(responseValidationRulesGroup0,MATCH(OFFSET($H24,0,-2)&"",responseOption0,0),3)),IF(TRIM(OFFSET($H24,0,-1)) = "","Complete","The comment must be left blank for this response"),IF(TRIM(OFFSET($H24,0,-2))="","Incomplete", "Complete")))) -> 0 | I24: 1
B25: 1691391 | C25: 1.2.2 | D25: Support encryption; the vendor must disclose the encryption algorithm. | H25: =IF(AND(ISNA(MATCH(OFFSET($H25,0,-2)&"",responseOption0,0)),NOT(TRIM(OFFSET($H25,0,-2)) = "")),"Response must be one of "&INDEX(responseValidationRulesGroup0,4,1),IF(AND(IF(ISNA(INDEX(responseValidationRulesGroup0,MATCH(OFFSET($H25,0,-2)&"",responseOption0,0),2)),FALSE,INDEX(responseValidationRulesGroup0,MATCH(OFFSET($H25,0,-2)&"",responseOption0,0),2)),TRIM(OFFSET($H25,0,-1)) = ""),"A comment is required for this response",IF(IF(ISNA(INDEX(responseValidationRulesGroup0,MATCH(OFFSET($H25,0,-2)&"",responseOption0,0),3)),FALSE,INDEX(responseValidationRulesGroup0,MATCH(OFFSET($H25,0,-2)&"",responseOption0,0),3)),IF(TRIM(OFFSET($H25,0,-1)) = "","Complete","The comment must be left blank for this response"),IF(TRIM(OFFSET($H25,0,-2))="","Incomplete", "Complete")))) -> 0 | I25: 0
B26: 1691392 | C26: 1.2.3 | D26: Be rewriteable, with full read/write functionality for the tag's lifecycle. | H26: =IF(AND(ISNA(MATCH(OFFSET($H26,0,-2)&"",responseOption0,0)),NOT(TRIM(OFFSET($H26,0,-2)) = "")),"Response must be one of "&INDEX(responseValidationRulesGroup0,4,1),IF(AND(IF(ISNA(INDEX(responseValidationRulesGroup0,MATCH(OFFSET($H26,0,-2)&"",responseOption0,0),2)),FALSE,INDEX(responseValidationRulesGroup0,MATCH(OFFSET($H26,0,-2)&"",responseOption0,0),2)),TRIM(OFFSET($H26,0,-1)) = ""),"A comment is required for this response",IF(IF(ISNA(INDEX(responseValidationRulesGroup0,MATCH(OFFSET($H26,0,-2)&"",responseOption0,0),3)),FALSE,INDEX(responseValidationRulesGroup0,MATCH(OFFSET($H26,0,-2)&"",responseOption0,0),3)),IF(TRIM(OFFSET($H26,0,-1)) = "","Complete","The comment must be left blank for this response"),IF(TRIM(OFFSET($H26,0,-2))="","Incomplete", "Complete")))) -> 0 | I26: 1
B27: 1691393 | C27: 1.2.4 | D27: Meet ISO 15693-3:2019 standards for cross-vendor readability. | H27: =IF(AND(ISNA(MATCH(OFFSET($H27,0,-2)&"",responseOption0,0)),NOT(TRIM(OFFSET($H27,0,-2)) = "")),"Response must be one of "&INDEX(responseValidationRulesGroup0,4,1),IF(AND(IF(ISNA(INDEX(responseValidationRulesGroup0,MATCH(OFFSET($H27,0,-2)&"",responseOption0,0),2)),FALSE,INDEX(responseValidationRulesGroup0,MATCH(OFFSET($H27,0,-2)&"",responseOption0,0),2)),TRIM(OFFSET($H27,0,-1)) = ""),"A comment is required for this response",IF(IF(ISNA(INDEX(responseValidationRulesGroup0,MATCH(OFFSET($H27,0,-2)&"",responseOption0,0),3)),FALSE,INDEX(responseValidationRulesGroup0,MATCH(OFFSET($H27,0,-2)&"",responseOption0,0),3)),IF(TRIM(OFFSET($H27,0,-1)) = "","Complete","The comment must be left blank for this response"),IF(TRIM(OFFSET($H27,0,-2))="","Incomplete", "Complete")))) -> 0 | I27: 0
B28: 1691394 | C28: 1.2.5 | D28: Include durable, adhesive-backed tags integrated with neutral pH adhesive. | H28: =IF(AND(ISNA(MATCH(OFFSET($H28,0,-2)&"",responseOption0,0)),NOT(TRIM(OFFSET($H28,0,-2)) = "")),"Response must be one of "&INDEX(responseValidationRulesGroup0,4,1),IF(AND(IF(ISNA(INDEX(responseValidationRulesGroup0,MATCH(OFFSET($H28,0,-2)&"",responseOption0,0),2)),FALSE,INDEX(responseValidationRulesGroup0,MATCH(OFFSET($H28,0,-2)&"",responseOption0,0),2)),TRIM(OFFSET($H28,0,-1)) = ""),"A comment is required for this response",IF(IF(ISNA(INDEX(responseValidationRulesGroup0,MATCH(OFFSET($H28,0,-2)&"",responseOption0,0),3)),FALSE,INDEX(responseValidationRulesGroup0,MATCH(OFFSET($H28,0,-2)&"",responseOption0,0),3)),IF(TRIM(OFFSET($H28,0,-1)) = "","Complete","The comment must be left blank for this response"),IF(TRIM(OFFSET($H28,0,-2))="","Incomplete", "Complete")))) -> 0 | I28: 1
B29: 1691395 | C29: 1.2.6 | D29: Operate within a temperature range of -25°C to 70°C (-13°F to 158°F) and withstand over 100,000 read/write cycles. | H29: =IF(AND(ISNA(MATCH(OFFSET($H29,0,-2)&"",responseOption0,0)),NOT(TRIM(OFFSET($H29,0,-2)) = "")),"Response must be one of "&INDEX(responseValidationRulesGroup0,4,1),IF(AND(IF(ISNA(INDEX(responseValidationRulesGroup0,MATCH(OFFSET($H29,0,-2)&"",responseOption0,0),2)),FALSE,INDEX(responseValidationRulesGroup0,MATCH(OFFSET($H29,0,-2)&"",responseOption0,0),2)),TRIM(OFFSET($H29,0,-1)) = ""),"A comment is required for this response",IF(IF(ISNA(INDEX(responseValidationRulesGroup0,MATCH(OFFSET($H29,0,-2)&"",responseOption0,0),3)),FALSE,INDEX(responseValidationRulesGroup0,MATCH(OFFSET($H29,0,-2)&"",responseOption0,0),3)),IF(TRIM(OFFSET($H29,0,-1)) = "","Complete","The comment must be left blank for this response"),IF(TRIM(OFFSET($H29,0,-2))="","Incomplete", "Complete")))) -> 0 | I29: 0
B30: 1691396 | C30: 1.2.7 | D30: Use an anticollision algorithm to read multiple tags simultaneously. | H30: =IF(AND(ISNA(MATCH(OFFSET($H30,0,-2)&"",responseOption0,0)),NOT(TRIM(OFFSET($H30,0,-2)) = "")),"Response must be one of "&INDEX(responseValidationRulesGroup0,4,1),IF(AND(IF(ISNA(INDEX(responseValidationRulesGroup0,MATCH(OFFSET($H30,0,-2)&"",responseOption0,0),2)),FALSE,INDEX(responseValidationRulesGroup0,MATCH(OFFSET($H30,0,-2)&"",responseOption0,0),2)),TRIM(OFFSET($H30,0,-1)) = ""),"A comment is required for this response",IF(IF(ISNA(INDEX(responseValidationRulesGroup0,MATCH(OFFSET($H30,0,-2)&"",responseOption0,0),3)),FALSE,INDEX(responseValidationRulesGroup0,MATCH(OFFSET($H30,0,-2)&"",responseOption0,0),3)),IF(TRIM(OFFSET($H30,0,-1)) = "","Complete","The comment must be left blank for this response"),IF(TRIM(OFFSET($H30,0,-2))="","Incomplete", "Complete")))) -> 0 | I30: 1
B31: 1691397 | C31: 1.2.8 | D31: Store security status directly on the tag and trigger alarms when unauthorized items are detected. | H31: =IF(AND(ISNA(MATCH(OFFSET($H31,0,-2)&"",responseOption0,0)),NOT(TRIM(OFFSET($H31,0,-2)) = "")),"Response must be one of "&INDEX(responseValidationRulesGroup0,4,1),IF(AND(IF(ISNA(INDEX(responseValidationRulesGroup0,MATCH(OFFSET($H31,0,-2)&"",responseOption0,0),2)),FALSE,INDEX(responseValidationRulesGroup0,MATCH(OFFSET($H31,0,-2)&"",responseOption0,0),2)),TRIM(OFFSET($H31,0,-1)) = ""),"A comment is required for this response",IF(IF(ISNA(INDEX(responseValidationRulesGroup0,MATCH(OFFSET($H31,0,-2)&"",responseOption0,0),3)),FALSE,INDEX(responseValidationRulesGroup0,MATCH(OFFSET($H31,0,-2)&"",responseOption0,0),3)),IF(TRIM(OFFSET($H31,0,-1)) = "","Complete","The comment must be left blank for this response"),IF(TRIM(OFFSET($H31,0,-2))="","Incomplete", "Complete")))) -> 0 | I31: 0
B32: 1691398 | C32: 1.2.9 | D32: Be available with volume discounts and options for erasing or deactivating tags for withdrawn materials. | H32: =IF(AND(ISNA(MATCH(OFFSET($H32,0,-2)&"",responseOption0,0)),NOT(TRIM(OFFSET($H32,0,-2)) = "")),"Response must be one of "&INDEX(responseValidationRulesGroup0,4,1),IF(AND(IF(ISNA(INDEX(responseValidationRulesGroup0,MATCH(OFFSET($H32,0,-2)&"",responseOption0,0),2)),FALSE,INDEX(responseValidationRulesGroup0,MATCH(OFFSET($H32,0,-2)&"",responseOption0,0),2)),TRIM(OFFSET($H32,0,-1)) = ""),"A comment is required for this response",IF(IF(ISNA(INDEX(responseValidationRulesGroup0,MATCH(OFFSET($H32,0,-2)&"",responseOption0,0),3)),FALSE,INDEX(responseValidationRulesGroup0,MATCH(OFFSET($H32,0,-2)&"",responseOption0,0),3)),IF(TRIM(OFFSET($H32,0,-1)) = "","Complete","The comment must be left blank for this response"),IF(TRIM(OFFSET($H32,0,-2))="","Incomplete", "Complete")))) -> 0 | I32: 1
C33: Conversion Stations | H33: =IF(AND(ISBLANK(F33),ISBLANK(G33)),"?", "Anything entered in this row will be ignored") -> 0 | I33: -1
B34: 1691399 | C34: 1.3.1 | D34: Require only a computer/laptop, barcode scanner, and RFID reader/antenna along with software, all of which can be mobile and operational in library stacks. | H34: =IF(AND(ISNA(MATCH(OFFSET($H34,0,-2)&"",responseOption0,0)),NOT(TRIM(OFFSET($H34,0,-2)) = "")),"Response must be one of "&INDEX(responseValidationRulesGroup0,4,1),IF(AND(IF(ISNA(INDEX(responseValidationRulesGroup0,MATCH(OFFSET($H34,0,-2)&"",responseOption0,0),2)),FALSE,INDEX(responseValidationRulesGroup0,MATCH(OFFSET($H34,0,-2)&"",responseOption0,0),2)),TRIM(OFFSET($H34,0,-1)) = ""),"A comment is required for this response",IF(IF(ISNA(INDEX(responseValidationRulesGroup0,MATCH(OFFSET($H34,0,-2)&"",responseOption0,0),3)),FALSE,INDEX(responseValidationRulesGroup0,MATCH(OFFSET($H34,0,-2)&"",responseOption0,0),3)),IF(TRIM(OFFSET($H34,0,-1)) = "","Complete","The comment must be left blank for this response"),IF(TRIM(OFFSET($H34,0,-2))="","Incomplete", "Complete")))) -> 0 | I34: 1
B35: 1691400 | C35: 1.3.2 | D35: Function in standalone mode without requiring an interface with the ILS. | H35: =IF(AND(ISNA(MATCH(OFFSET($H35,0,-2)&"",responseOption0,0)),NOT(TRIM(OFFSET($H35,0,-2)) = "")),"Response must be one of "&INDEX(responseValidationRulesGroup0,4,1),IF(AND(IF(ISNA(INDEX(responseValidationRulesGroup0,MATCH(OFFSET($H35,0,-2)&"",responseOption0,0),2)),FALSE,INDEX(responseValidationRulesGroup0,MATCH(OFFSET($H35,0,-2)&"",responseOption0,0),2)),TRIM(OFFSET($H35,0,-1)) = ""),"A comment is required for this response",IF(IF(ISNA(INDEX(responseValidationRulesGroup0,MATCH(OFFSET($H35,0,-2)&"",responseOption0,0),3)),FALSE,INDEX(responseValidationRulesGroup0,MATCH(OFFSET($H35,0,-2)&"",responseOption0,0),3)),IF(TRIM(OFFSET($H35,0,-1)) = "","Complete","The comment must be left blank for this response"),IF(TRIM(OFFSET($H35,0,-2))="","Incomplete", "Complete")))) -> 0 | I35: 0
B36: 1691401 | C36: 1.3.3 | D36: Handle varying barcode locations and orientations during processing. | H36: =IF(AND(ISNA(MATCH(OFFSET($H36,0,-2)&"",responseOption0,0)),NOT(TRIM(OFFSET($H36,0,-2)) = "")),"Response must be one of "&INDEX(responseValidationRulesGroup0,4,1),IF(AND(IF(ISNA(INDEX(responseValidationRulesGroup0,MATCH(OFFSET($H36,0,-2)&"",responseOption0,0),2)),FALSE,INDEX(responseValidationRulesGroup0,MATCH(OFFSET($H36,0,-2)&"",responseOption0,0),2)),TRIM(OFFSET($H36,0,-1)) = ""),"A comment is required for this response",IF(IF(ISNA(INDEX(responseValidationRulesGroup0,MATCH(OFFSET($H36,0,-2)&"",responseOption0,0),3)),FALSE,INDEX(responseValidationRulesGroup0,MATCH(OFFSET($H36,0,-2)&"",responseOption0,0),3)),IF(TRIM(OFFSET($H36,0,-1)) = "","Complete","The comment must be left blank for this response"),IF(TRIM(OFFSET($H36,0,-2))="","Incomplete", "Complete")))) -> 0 | I36: 1
B37: 1691402 | C37: 1.3.4 | D37: Automatically interrupt operations if barcodes are not fully scanned. | H37: =IF(AND(ISNA(MATCH(OFFSET($H37,0,-2)&"",responseOption0,0)),NOT(TRIM(OFFSET($H37,0,-2)) = "")),"Response must be one of "&INDEX(responseValidationRulesGroup0,4,1),IF(AND(IF(ISNA(INDEX(responseValidationRulesGroup0,MATCH(OFFSET($H37,0,-2)&"",responseOption0,0),2)),FALSE,INDEX(responseValidationRulesGroup0,MATCH(OFFSET($H37,0,-2)&"",responseOption0,0),2)),TRIM(OFFSET($H37,0,-1)) = ""),"A comment is required for this response",IF(IF(ISNA(INDEX(responseValidationRulesGroup0,MATCH(OFFSET($H37,0,-2)&"",responseOption0,0),3)),FALSE,INDEX(responseValidationRulesGroup0,MATCH(OFFSET($H37,0,-2)&"",responseOption0,0),3)),IF(TRIM(OFFSET($H37,0,-1)) = "","Complete","The comment must be left blank for this response"),IF(TRIM(OFFSET($H37,0,-2))="","Incomplete", "Complete")))) -> 0 | I37: 0
B38: 1691403 | C38: 1.3.5 | D38: Convert items using a list when optical barcodes are unavailable or unreliable. | H38: =IF(AND(ISNA(MATCH(OFFSET($H38,0,-2)&"",responseOption0,0)),NOT(TRIM(OFFSET($H38,0,-2)) = "")),"Response must be one of "&INDEX(responseValidationRulesGroup0,4,1),IF(AND(IF(ISNA(INDEX(responseValidationRulesGroup0,MATCH(OFFSET($H38,0,-2)&"",responseOption0,0),2)),FALSE,INDEX(responseValidationRulesGroup0,MATCH(OFFSET($H38,0,-2)&"",responseOption0,0),2)),TRIM(OFFSET($H38,0,-1)) = ""),"A comment is required for this response",IF(IF(ISNA(INDEX(responseValidationRulesGroup0,MATCH(OFFSET($H38,0,-2)&"",responseOption0,0),3)),FALSE,INDEX(responseValidationRulesGroup0,MATCH(OFFSET($H38,0,-2)&"",responseOption0,0),3)),IF(TRIM(OFFSET($H38,0,-1)) = "","Complete","The comment must be left blank for this response"),IF(TRIM(OFFSET($H38,0,-2))="","Incomplete", "Complete")))) -> 0 | I38: 1
B39: 1691404 | C39: 1.3.6 | D39: Report program completion or activity levels, including hourly and daily totals. | H39: =IF(AND(ISNA(MATCH(OFFSET($H39,0,-2)&"",responseOption0,0)),NOT(TRIM(OFFSET($H39,0,-2)) = "")),"Response must be one of "&INDEX(responseValidationRulesGroup0,4,1),IF(AND(IF(ISNA(INDEX(responseValidationRulesGroup0,MATCH(OFFSET($H39,0,-2)&"",responseOption0,0),2)),FALSE,INDEX(responseValidationRulesGroup0,MATCH(OFFSET($H39,0,-2)&"",responseOption0,0),2)),TRIM(OFFSET($H39,0,-1)) = ""),"A comment is required for this response",IF(IF(ISNA(INDEX(responseValidationRulesGroup0,MATCH(OFFSET($H39,0,-2)&"",responseOption0,0),3)),FALSE,INDEX(responseValidationRulesGroup0,MATCH(OFFSET($H39,0,-2)&"",responseOption0,0),3)),IF(TRIM(OFFSET($H39,0,-1)) = "","Complete","The comment must be left blank for this response"),IF(TRIM(OFFSET($H39,0,-2))="","Incomplete", "Complete")))) -> 0 | I39: 0
B40: 1691405 | C40: 1.3.7 | D40: Provide visual and audible feedback when a tag is successfully programmed. | H40: =IF(AND(ISNA(MATCH(OFFSET($H40,0,-2)&"",responseOption0,0)),NOT(TRIM(OFFSET($H40,0,-2)) = "")),"Response must be one of "&INDEX(responseValidationRulesGroup0,4,1),IF(AND(IF(ISNA(INDEX(responseValidationRulesGroup0,MATCH(OFFSET($H40,0,-2)&"",responseOption0,0),2)),FALSE,INDEX(responseValidationRulesGroup0,MATCH(OFFSET($H40,0,-2)&"",responseOption0,0),2)),TRIM(OFFSET($H40,0,-1)) = ""),"A comment is required for this response",IF(IF(ISNA(INDEX(responseValidationRulesGroup0,MATCH(OFFSET($H40,0,-2)&"",responseOption0,0),3)),FALSE,INDEX(responseValidationRulesGroup0,MATCH(OFFSET($H40,0,-2)&"",responseOption0,0),3)),IF(TRIM(OFFSET($H40,0,-1)) = "","Complete","The comment must be left blank for this response"),IF(TRIM(OFFSET($H40,0,-2))="","Incomplete", "Complete")))) -> 0 | I40: 1
B41: 1691406 | C41: 1.3.8 | D41: Maintain a log file of all converted items by date and item ID. | H41: =IF(AND(ISNA(MATCH(OFFSET($H41,0,-2)&"",responseOption0,0)),NOT(TRIM(OFFSET($H41,0,-2)) = "")),"Response must be one of "&INDEX(responseValidationRulesGroup0,4,1),IF(AND(IF(ISNA(INDEX(responseValidationRulesGroup0,MATCH(OFFSET($H41,0,-2)&"",responseOption0,0),2)),FALSE,INDEX(responseValidationRulesGroup0,MATCH(OFFSET($H41,0,-2)&"",responseOption0,0),2)),TRIM(OFFSET($H41,0,-1)) = ""),"A comment is required for this response",IF(IF(ISNA(INDEX(responseValidationRulesGroup0,MATCH(OFFSET($H41,0,-2)&"",responseOption0,0),3)),FALSE,INDEX(responseValidationRulesGroup0,MATCH(OFFSET($H41,0,-2)&"",responseOption0,0),3)),IF(TRIM(OFFSET($H41,0,-1)) = "","Complete","The comment must be left blank for this response"),IF(TRIM(OFFSET($H41,0,-2))="","Incomplete", "Complete")))) -> 0 | I41: 0
C42: Circulation Staff Workstations | H42: =IF(AND(ISBLANK(F42),ISBLANK(G42)),"?", "Anything entered in this row will be ignored") -> 0 | I42: -1
B43: 1691407 | C43: 1.4.1 | D43: Include shielded RFID pads to prevent interference. | H43: =IF(AND(ISNA(MATCH(OFFSET($H43,0,-2)&"",responseOption0,0)),NOT(TRIM(OFFSET($H43,0,-2)) = "")),"Response must be one of "&INDEX(responseValidationRulesGroup0,4,1),IF(AND(IF(ISNA(INDEX(responseValidationRulesGroup0,MATCH(OFFSET($H43,0,-2)&"",responseOption0,0),2)),FALSE,INDEX(responseValidationRulesGroup0,MATCH(OFFSET($H43,0,-2)&"",responseOption0,0),2)),TRIM(OFFSET($H43,0,-1)) = ""),"A comment is required for this response",IF(IF(ISNA(INDEX(responseValidationRulesGroup0,MATCH(OFFSET($H43,0,-2)&"",responseOption0,0),3)),FALSE,INDEX(responseValidationRulesGroup0,MATCH(OFFSET($H43,0,-2)&"",responseOption0,0),3)),IF(TRIM(OFFSET($H43,0,-1)) = "","Complete","The comment must be left blank for this response"),IF(TRIM(OFFSET($H43,0,-2))="","Incomplete", "Complete")))) -> 0 | I43: 1
B44: 1691408 | C44: 1.4.2 | D44: Enable charge and discharge of library materials. | H44: =IF(AND(ISNA(MATCH(OFFSET($H44,0,-2)&"",responseOption0,0)),NOT(TRIM(OFFSET($H44,0,-2)) = "")),"Response must be one of "&INDEX(responseValidationRulesGroup0,4,1),IF(AND(IF(ISNA(INDEX(responseValidationRulesGroup0,MATCH(OFFSET($H44,0,-2)&"",responseOption0,0),2)),FALSE,INDEX(responseValidationRulesGroup0,MATCH(OFFSET($H44,0,-2)&"",responseOption0,0),2)),TRIM(OFFSET($H44,0,-1)) = ""),"A comment is required for this response",IF(IF(ISNA(INDEX(responseValidationRulesGroup0,MATCH(OFFSET($H44,0,-2)&"",responseOption0,0),3)),FALSE,INDEX(responseValidationRulesGroup0,MATCH(OFFSET($H44,0,-2)&"",responseOption0,0),3)),IF(TRIM(OFFSET($H44,0,-1)) = "","Complete","The comment must be left blank for this response"),IF(TRIM(OFFSET($H44,0,-2))="","Incomplete", "Complete")))) -> 0 | I44: 0
B45: 1691409 | C45: 1.4.3 | D45: Be compatible with standard library circulation desk computers, barcode scanners, and receipt printers. | H45: =IF(AND(ISNA(MATCH(OFFSET($H45,0,-2)&"",responseOption0,0)),NOT(TRIM(OFFSET($H45,0,-2)) = "")),"Response must be one of "&INDEX(responseValidationRulesGroup0,4,1),IF(AND(IF(ISNA(INDEX(responseValidationRulesGroup0,MATCH(OFFSET($H45,0,-2)&"",responseOption0,0),2)),FALSE,INDEX(responseValidationRulesGroup0,MATCH(OFFSET($H45,0,-2)&"",responseOption0,0),2)),TRIM(OFFSET($H45,0,-1)) = ""),"A comment is required for this response",IF(IF(ISNA(INDEX(responseValidationRulesGroup0,MATCH(OFFSET($H45,0,-2)&"",responseOption0,0),3)),FALSE,INDEX(responseValidationRulesGroup0,MATCH(OFFSET($H45,0,-2)&"",responseOption0,0),3)),IF(TRIM(OFFSET($H45,0,-1)) = "","Complete","The comment must be left blank for this response"),IF(TRIM(OFFSET($H45,0,-2))="","Incomplete", "Complete")))) -> 0 | I45: 1
B46: 1691410 | C46: 1.4.4 | D46: Allow mounting options for the RFID pad, including in, on, or under the circulation desk work surface. | H46: =IF(AND(ISNA(MATCH(OFFSET($H46,0,-2)&"",responseOption0,0)),NOT(TRIM(OFFSET($H46,0,-2)) = "")),"Response must be one of "&INDEX(responseValidationRulesGroup0,4,1),IF(AND(IF(ISNA(INDEX(responseValidationRulesGroup0,MATCH(OFFSET($H46,0,-2)&"",responseOption0,0),2)),FALSE,INDEX(responseValidationRulesGroup0,MATCH(OFFSET($H46,0,-2)&"",responseOption0,0),2)),TRIM(OFFSET($H46,0,-1)) = ""),"A comment is required for this response",IF(IF(ISNA(INDEX(responseValidationRulesGroup0,MATCH(OFFSET($H46,0,-2)&"",responseOption0,0),3)),FALSE,INDEX(responseValidationRulesGroup0,MATCH(OFFSET($H46,0,-2)&"",responseOption0,0),3)),IF(TRIM(OFFSET($H46,0,-1)) = "","Complete","The comment must be left blank for this response"),IF(TRIM(OFFSET($H46,0,-2))="","Incomplete", "Complete")))) -> 0 | I46: 0
B47: 1691411 | C47: 1.4.5 | D47: Process both RFID tags and barcodes in the same transaction. | H47: =IF(AND(ISNA(MATCH(OFFSET($H47,0,-2)&"",responseOption0,0)),NOT(TRIM(OFFSET($H47,0,-2)) = "")),"Response must be one of "&INDEX(responseValidationRulesGroup0,4,1),IF(AND(IF(ISNA(INDEX(responseValidationRulesGroup0,MATCH(OFFSET($H47,0,-2)&"",responseOption0,0),2)),FALSE,INDEX(responseValidationRulesGroup0,MATCH(OFFSET($H47,0,-2)&"",responseOption0,0),2)),TRIM(OFFSET($H47,0,-1)) = ""),"A comment is required for this response",IF(IF(ISNA(INDEX(responseValidationRulesGroup0,MATCH(OFFSET($H47,0,-2)&"",responseOption0,0),3)),FALSE,INDEX(responseValidationRulesGroup0,MATCH(OFFSET($H47,0,-2)&"",responseOption0,0),3)),IF(TRIM(OFFSET($H47,0,-1)) = "","Complete","The comment must be left blank for this response"),IF(TRIM(OFFSET($H47,0,-2))="","Incomplete", "Complete")))) -> 0 | I47: 1
B48: 1691412 | C48: 1.4.6 | D48: Simultaneously process multiple RFID-tagged items during check-in and check-out operations. | H48: =IF(AND(ISNA(MATCH(OFFSET($H48,0,-2)&"",responseOption0,0)),NOT(TRIM(OFFSET($H48,0,-2)) = "")),"Response must be one of "&INDEX(responseValidationRulesGroup0,4,1),IF(AND(IF(ISNA(INDEX(responseValidationRulesGroup0,MATCH(OFFSET($H48,0,-2)&"",responseOption0,0),2)),FALSE,INDEX(responseValidationRulesGroup0,MATCH(OFFSET($H48,0,-2)&"",responseOption0,0),2)),TRIM(OFFSET($H48,0,-1)) = ""),"A comment is required for this response",IF(IF(ISNA(INDEX(responseValidationRulesGroup0,MATCH(OFFSET($H48,0,-2)&"",responseOption0,0),3)),FALSE,INDEX(responseValidationRulesGroup0,MATCH(OFFSET($H48,0,-2)&"",responseOption0,0),3)),IF(TRIM(OFFSET($H48,0,-1)) = "","Complete","The comment must be left blank for this response"),IF(TRIM(OFFSET($H48,0,-2))="","Incomplete", "Complete")))) -> 0 | I48: 0
...

Sheet 2
C2: Question Set 2: Automated Materials Handling (AMH)
C10: # | D10: Question | E10: Hide Me | F10: Response | G10: Comment | H10: Status | I10: Hide Me
C11: General Requirements | H11: =IF(AND(ISBLANK(F11),ISBLANK(G11)),"?", "Anything entered in this row will be ignored") -> 0 | I11: -1
B12: 1691467 | C12: 2.1.1 | D12: Be compatible with all major ILS systems, including Koha, and allow seamless integration without additional software requirements. | H12: =IF(AND(ISNA(MATCH(OFFSET($H12,0,-2)&"",responseOption0,0)),NOT(TRIM(OFFSET($H12,0,-2)) = "")),"Response must be one of "&INDEX(responseValidationRulesGroup0,4,1),IF(AND(IF(ISNA(INDEX(responseValidationRulesGroup0,MATCH(OFFSET($H12,0,-2)&"",responseOption0,0),2)),FALSE,INDEX(responseValidationRulesGroup0,MATCH(OFFSET($H12,0,-2)&"",responseOption0,0),2)),TRIM(OFFSET($H12,0,-1)) = ""),"A comment is required for this response",IF(IF(ISNA(INDEX(responseValidationRulesGroup0,MATCH(OFFSET($H12,0,-2)&"",responseOption0,0),3)),FALSE,INDEX(responseValidationRulesGroup0,MATCH(OFFSET($H12,0,-2)&"",responseOption0,0),3)),IF(TRIM(OFFSET($H12,0,-1)) = "","Complete","The comment must be left blank for this response"),IF(TRIM(OFFSET($H12,0,-2))="","Incomplete", "Complete")))) -> 0 | I12: 1
B13: 1691468 | C13: 2.1.2 | D13: Use anticollision algorithms to enable simultaneous identification and processing of multiple RFID tags. | H13: =IF(AND(ISNA(MATCH(OFFSET($H13,0,-2)&"",responseOption0,0)),NOT(TRIM(OFFSET($H13,0,-2)) = "")),"Response must be one of "&INDEX(responseValidationRulesGroup0,4,1),IF(AND(IF(ISNA(INDEX(responseValidationRulesGroup0,MATCH(OFFSET($H13,0,-2)&"",responseOption0,0),2)),FALSE,INDEX(responseValidationRulesGroup0,MATCH(OFFSET($H13,0,-2)&"",responseOption0,0),2)),TRIM(OFFSET($H13,0,-1)) = ""),"A comment is required for this response",IF(IF(ISNA(INDEX(responseValidationRulesGroup0,MATCH(OFFSET($H13,0,-2)&"",responseOption0,0),3)),FALSE,INDEX(responseValidationRulesGroup0,MATCH(OFFSET($H13,0,-2)&"",responseOption0,0),3)),IF(TRIM(OFFSET($H13,0,-1)) = "","Complete","The comment must be left blank for this response"),IF(TRIM(OFFSET($H13,0,-2))="","Incomplete", "Complete")))) -> 0 | I13: 0
B14: 1691469 | C14: 2.1.3 | D14: Include an intuitive web-based interface for remote monitoring, diagnostics, configuration, and troubleshooting from any location within the library network. | H14: =IF(AND(ISNA(MATCH(OFFSET($H14,0,-2)&"",responseOption0,0)),NOT(TRIM(OFFSET($H14,0,-2)) = "")),"Response must be one of "&INDEX(responseValidationRulesGroup0,4,1),IF(AND(IF(ISNA(INDEX(responseValidationRulesGroup0,MATCH(OFFSET($H14,0,-2)&"",responseOption0,0),2)),FALSE,INDEX(responseValidationRulesGroup0,MATCH(OFFSET($H14,0,-2)&"",responseOption0,0),2)),TRIM(OFFSET($H14,0,-1)) = ""),"A comment is required for this response",IF(IF(ISNA(INDEX(responseValidationRulesGroup0,MATCH(OFFSET($H14,0,-2)&"",responseOption0,0),3)),FALSE,INDEX(responseValidationRulesGroup0,MATCH(OFFSET($H14,0,-2)&"",responseOption0,0),3)),IF(TRIM(OFFSET($H14,0,-1)) = "","Complete","The comment must be left blank for this response"),IF(TRIM(OFFSET($H14,0,-2))="","Incomplete", "Complete")))) -> 0 | I14: 1
B15: 1691470 | C15: 2.1.4 | D15: Provide detailed operational statistics, including check-in rates, sorting efficiency, and equipment usage metrics. | H15: =IF(AND(ISNA(MATCH(OFFSET($H15,0,-2)&"",responseOption0,0)),NOT(TRIM(OFFSET($H15,0,-2)) = "")),"Response must be one of "&INDEX(responseValidationRulesGroup0,4,1),IF(AND(IF(ISNA(INDEX(responseValidationRulesGroup0,MATCH(OFFSET($H15,0,-2)&"",responseOption0,0),2)),FALSE,INDEX(responseValidationRulesGroup0,MATCH(OFFSET($H15,0,-2)&"",responseOption0,0),2)),TRIM(OFFSET($H15,0,-1)) = ""),"A comment is required for this response",IF(IF(ISNA(INDEX(responseValidationRulesGroup0,MATCH(OFFSET($H15,0,-2)&"",responseOption0,0),3)),FALSE,INDEX(responseValidationRulesGroup0,MATCH(OFFSET($H15,0,-2)&"",responseOption0,0),3)),IF(TRIM(OFFSET($H15,0,-1)) = "","Complete","The comment must be left blank for this response"),IF(TRIM(OFFSET($H15,0,-2))="","Incomplete", "Complete")))) -> 0 | I15: 0
B16: 1691471 | C16: 2.1.5 | D16: Accommodate modular configurations ranging from 1 to 21 sorting bins, allowing for future expansion without requiring a complete system overhaul. | H16: =IF(AND(ISNA(MATCH(OFFSET($H16,0,-2)&"",responseOption0,0)),NOT(TRIM(OFFSET($H16,0,-2)) = "")),"Response must be one of "&INDEX(responseValidationRulesGroup0,4,1),IF(AND(IF(ISNA(INDEX(responseValidationRulesGroup0,MATCH(OFFSET($H16,0,-2)&"",responseOption0,0),2)),FALSE,INDEX(responseValidationRulesGroup0,MATCH(OFFSET($H16,0,-2)&"",responseOption0,0),2)),TRIM(OFFSET($H16,0,-1)) = ""),"A comment is required for this response",IF(IF(ISNA(INDEX(responseValidationRulesGroup0,MATCH(OFFSET($H16,0,-2)&"",responseOption0,0),3)),FALSE,INDEX(responseValidationRulesGroup0,MATCH(OFFSET($H16,0,-2)&"",responseOption0,0),3)),IF(TRIM(OFFSET($H16,0,-1)) = "","Complete","The comment must be left blank for this response"),IF(TRIM(OFFSET($H16,0,-2))="","Incomplete", "Complete")))) -> 0 | I16: 1
B17: 1691472 | C17: 2.1.6 | D17: Include customizable "Hold Slip" printing options, such as immediate printing for returned hold items or batch printing for convenience. | H17: =IF(AND(ISNA(MATCH(OFFSET($H17,0,-2)&"",responseOption0,0)),NOT(TRIM(OFFSET($H17,0,-2)) = "")),"Response must be one of "&INDEX(responseValidationRulesGroup0,4,1),IF(AND(IF(ISNA(INDEX(responseValidationRulesGroup0,MATCH(OFFSET($H17,0,-2)&"",responseOption0,0),2)),FALSE,INDEX(responseValidationRulesGroup0,MATCH(OFFSET($H17,0,-2)&"",responseOption0,0),2)),TRIM(OFFSET($H17,0,-1)) = ""),"A comment is required for this response",IF(IF(ISNA(INDEX(responseValidationRulesGroup0,MATCH(OFFSET($H17,0,-2)&"",responseOption0,0),3)),FALSE,INDEX(responseValidationRulesGroup0,MATCH(OFFSET($H17,0,-2)&"",responseOption0,0),3)),IF(TRIM(OFFSET($H17,0,-1)) = "","Complete","The comment must be left blank for this response"),IF(TRIM(OFFSET($H17,0,-2))="","Incomplete", "Complete")))) -> 0 | I17: 0
B18: 1691473 | C18: 2.1.7 | D18: Allow staff to switch between multiple sorting profiles without requiring vendor support, ensuring flexibility for various workflows. | H18: =IF(AND(ISNA(MATCH(OFFSET($H18,0,-2)&"",responseOption0,0)),NOT(TRIM(OFFSET($H18,0,-2)) = "")),"Response must be one of "&INDEX(responseValidationRulesGroup0,4,1),IF(AND(IF(ISNA(INDEX(responseValidationRulesGroup0,MATCH(OFFSET($H18,0,-2)&"",responseOption0,0),2)),FALSE,INDEX(responseValidationRulesGroup0,MATCH(OFFSET($H18,0,-2)&"",responseOption0,0),2)),TRIM(OFFSET($H18,0,-1)) = ""),"A comment is required for this response",IF(IF(ISNA(INDEX(responseValidationRulesGroup0,MATCH(OFFSET($H18,0,-2)&"",responseOption0,0),3)),FALSE,INDEX(responseValidationRulesGroup0,MATCH(OFFSET($H18,0,-2)&"",responseOption0,0),3)),IF(TRIM(OFFSET($H18,0,-1)) = "","Complete","The comment must be left blank for this response"),IF(TRIM(OFFSET($H18,0,-2))="","Incomplete", "Complete")))) -> 0 | I18: 1
B19: 1691474 | C19: 2.1.8 | D19: Feature robust mechanisms to handle items exceeding processing speed, including default bins for overflow or temporary holding solutions. | H19: =IF(AND(ISNA(MATCH(OFFSET($H19,0,-2)&"",responseOption0,0)),NOT(TRIM(OFFSET($H19,0,-2)) = "")),"Response must be one of "&INDEX(responseValidationRulesGroup0,4,1),IF(AND(IF(ISNA(INDEX(responseValidationRulesGroup0,MATCH(OFFSET($H19,0,-2)&"",responseOption0,0),2)),FALSE,INDEX(responseValidationRulesGroup0,MATCH(OFFSET($H19,0,-2)&"",responseOption0,0),2)),TRIM(OFFSET($H19,0,-1)) = ""),"A comment is required for this response",IF(IF(ISNA(INDEX(responseValidationRulesGroup0,MATCH(OFFSET($H19,0,-2)&"",responseOption0,0),3)),FALSE,INDEX(responseValidationRulesGroup0,MATCH(OFFSET($H19,0,-2)&"",responseOption0,0),3)),IF(TRIM(OFFSET($H19,0,-1)) = "","Complete","The comment must be left blank for this response"),IF(TRIM(OFFSET($H19,0,-2))="","Incomplete", "Complete")))) -> 0 | I19: 0
B20: 1691475 | C20: 2.1.9 | D20: Provide detailed specifications for all equipment, including dimensions, space requirements, and weight distribution to aid in facility planning. | H20: =IF(AND(ISNA(MATCH(OFFSET($H20,0,-2)&"",responseOption0,0)),NOT(TRIM(OFFSET($H20,0,-2)) = "")),"Response must be one of "&INDEX(responseValidationRulesGroup0,4,1),IF(AND(IF(ISNA(INDEX(responseValidationRulesGroup0,MATCH(OFFSET($H20,0,-2)&"",responseOption0,0),2)),FALSE,INDEX(responseValidationRulesGroup0,MATCH(OFFSET($H20,0,-2)&"",responseOption0,0),2)),TRIM(OFFSET($H20,0,-1)) = ""),"A comment is required for this response",IF(IF(ISNA(INDEX(responseValidationRulesGroup0,MATCH(OFFSET($H20,0,-2)&"",responseOption0,0),3)),FALSE,INDEX(responseValidationRulesGroup0,MATCH(OFFSET($H20,0,-2)&"",responseOption0,0),3)),IF(TRIM(OFFSET($H20,0,-1)) = "","Complete","The comment must be left blank for this response"),IF(TRIM(OFFSET($H20,0,-2))="","Incomplete", "Complete")))) -> 0 | I20: 1
B21: 1691476 | C21: 2.1.10 | D21: Incorporate mechanisms to prevent jams, such as sensors to detect obstructions, and provide immediate alerts for staff intervention. | H21: =IF(AND(ISNA(MATCH(OFFSET($H21,0,-2)&"",responseOption0,0)),NOT(TRIM(OFFSET($H21,0,-2)) = "")),"Response must be one of "&INDEX(responseValidationRulesGroup0,4,1),IF(AND(IF(ISNA(INDEX(responseValidationRulesGroup0,MATCH(OFFSET($H21,0,-2)&"",responseOption0,0),2)),FALSE,INDEX(responseValidationRulesGroup0,MATCH(OFFSET($H21,0,-2)&"",responseOption0,0),2)),TRIM(OFFSET($H21,0,-1)) = ""),"A comment is required for this response",IF(IF(ISNA(INDEX(responseValidationRulesGroup0,MATCH(OFFSET($H21,0,-2)&"",responseOption0,0),3)),FALSE,INDEX(responseValidationRulesGroup0,MATCH(OFFSET($H21,0,-2)&"",responseOption0,0),3)),IF(TRIM(OFFSET($H21,0,-1)) = "","Complete","The comment must be left blank for this response"),IF(TRIM(OFFSET($H21,0,-2))="","Incomplete", "Complete")))) -> 0 | I21: 0
B22: 1691477 | C22: 2.1.11 | D22: Offer modular conveyor systems capable of vertical or inclined transport with minimal throughput impact. | H22: =IF(AND(ISNA(MATCH(OFFSET($H22,0,-2)&"",responseOption0,0)),NOT(TRIM(OFFSET($H22,0,-2)) = "")),"Response must be one of "&INDEX(responseValidationRulesGroup0,4,1),IF(AND(IF(ISNA(INDEX(responseValidationRulesGroup0,MATCH(OFFSET($H22,0,-2)&"",responseOption0,0),2)),FALSE,INDEX(responseValidationRulesGroup0,MATCH(OFFSET($H22,0,-2)&"",responseOption0,0),2)),TRIM(OFFSET($H22,0,-1)) = ""),"A comment is required for this response",IF(IF(ISNA(INDEX(responseValidationRulesGroup0,MATCH(OFFSET($H22,0,-2)&"",responseOption0,0),3)),FALSE,INDEX(responseValidationRulesGroup0,MATCH(OFFSET($H22,0,-2)&"",responseOption0,0),3)),IF(TRIM(OFFSET($H22,0,-1)) = "","Complete","The comment must be left blank for this response"),IF(TRIM(OFFSET($H22,0,-2))="","Incomplete", "Complete")))) -> 0 | I22: 1
B23: 1691478 | C23: 2.1.12 | D23: Include ergonomic features for staff convenience, such as height-adjustable bins or floating trays to reduce physical strain during operation. | H23: =IF(AND(ISNA(MATCH(OFFSET($H23,0,-2)&"",responseOption0,0)),NOT(TRIM(OFFSET($H23,0,-2)) = "")),"Response must be one of "&INDEX(responseValidationRulesGroup0,4,1),IF(AND(IF(ISNA(INDEX(responseValidationRulesGroup0,MATCH(OFFSET($H23,0,-2)&"",responseOption0,0),2)),FALSE,INDEX(responseValidationRulesGroup0,MATCH(OFFSET($H23,0,-2)&"",responseOption0,0),2)),TRIM(OFFSET($H23,0,-1)) = ""),"A comment is required for this response",IF(IF(ISNA(INDEX(responseValidationRulesGroup0,MATCH(OFFSET($H23,0,-2)&"",responseOption0,0),3)),FALSE,INDEX(responseValidationRulesGroup0,MATCH(OFFSET($H23,0,-2)&"",responseOption0,0),3)),IF(TRIM(OFFSET($H23,0,-1)) = "","Complete","The comment must be left blank for this response"),IF(TRIM(OFFSET($H23,0,-2))="","Incomplete", "Complete")))) -> 0 | I23: 0
... B26: 1691481 | C26: 2.1.15 | D26: Include options for exterior-mounted return ports with security features to prevent unauthorized material deposits and malicious interference. | H26: =IF(AND(ISNA(MATCH(OFFSET($H26,0,-2)&"",responseOption0,0)),NOT(TRIM(OFFSET($H26,0,-2)) = "")),"Response must be one of "&INDEX(responseValidationRulesGroup0,4,1),IF(AND(IF(ISNA(INDEX(responseValidationRulesGroup0,MATCH(OFFSET($H26,0,-2)&"",responseOption0,0),2)),FALSE,INDEX(responseValidationRulesGroup0,MATCH(OFFSET($H26,0,-2)&"",responseOption0,0),2)),TRIM(OFFSET($H26,0,-1)) = ""),"A comment is required for this response",IF(IF(ISNA(INDEX(responseValidationRulesGroup0,MATCH(OFFSET($H26,0,-2)&"",responseOption0,0),3)),FALSE,INDEX(responseValidationRulesGroup0,MATCH(OFFSET($H26,0,-2)&"",responseOption0,0),3)),IF(TRIM(OFFSET($H26,0,-1)) = "","Complete","The comment must be left blank for this response"),IF(TRIM(OFFSET($H26,0,-2))="","Incomplete", "Complete")))) -> 0 | I26: 1
C27: Technical and Network Features | H27: =IF(AND(ISBLANK(F27),ISBLANK(G27)),"?", "Anything entered in this row will be ignored") -> 0 | I27: -1
B28: 1691482 | C28: 2.2.1 | D28: Include remote control features for testing, configuring, and managing sorting equipment. | H28: =IF(AND(ISNA(MATCH(OFFSET($H28,0,-2)&"",responseOption0,0)),NOT(TRIM(OFFSET($H28,0,-2)) = "")),"Response must be one of "&INDEX(responseValidationRulesGroup0,4,1),IF(AND(IF(ISNA(INDEX(responseValidationRulesGroup0,MATCH(OFFSET($H28,0,-2)&"",responseOption0,0),2)),FALSE,INDEX(responseValidationRulesGroup0,MATCH(OFFSET($H28,0,-2)&"",responseOption0,0),2)),TRIM(OFFSET($H28,0,-1)) = ""),"A comment is required for this response",IF(IF(ISNA(INDEX(responseValidationRulesGroup0,MATCH(OFFSET($H28,0,-2)&"",responseOption0,0),3)),FALSE,INDEX(responseValidationRulesGroup0,MATCH(OFFSET($H28,0,-2)&"",responseOption0,0),3)),IF(TRIM(OFFSET($H28,0,-1)) = "","Complete","The comment must be left blank for this response"),IF(TRIM(OFFSET($H28,0,-2))="","Incomplete", "Complete")))) -> 0 | I28: 1
